BEGIN:VCALENDAR
VERSION:2.0
PRODID:-//Squarespace Inc/Squarespace 6//v6//EN
BEGIN:VEVENT
UID:57ed70d746c3c447523c5b68@squarespace.com
DTSTAMP:20160929T195645Z
DTSTART:20161015T200000Z
DTEND:20161016T030000Z
SUMMARY:Woodhill Family Day - its Back
END:VEVENT
END:VCALENDAR
