BEGIN:VCALENDAR
VERSION:2.0
PRODID:-//Squarespace Inc/Squarespace 6//v6//EN
BEGIN:VEVENT
UID:5803f026cd0f6803b4ff71ec@squarespace.com
DTSTAMP:20161016T212752Z
DTSTART:20161029T210000Z
DTEND:20161030T020000Z
SUMMARY:WMCC October Practice Moto Trail
END:VEVENT
END:VCALENDAR
