BEGIN:VCALENDAR
VERSION:2.0
PRODID:-//Squarespace Inc/Squarespace 6//v6//EN
BEGIN:VEVENT
UID:57d634b4579fb3b9b07ffe35@squarespace.com
DTSTAMP:20161106T071753Z
DTSTART:20161119T200000Z
DTEND:20161119T210000Z
SUMMARY:Dead Toad 
END:VEVENT
END:VCALENDAR
