BEGIN:VCALENDAR
VERSION:2.0
PRODID:-//Squarespace Inc/Squarespace 6//v6//EN
BEGIN:VEVENT
UID:57d6348529687f1a258e31f5@squarespace.com
DTSTAMP:20161030T173608Z
DTSTART:20161105T200000Z
DTEND:20161106T040000Z
SUMMARY:Riverhead 2Man
END:VEVENT
END:VCALENDAR
