BEGIN:VCALENDAR
VERSION:2.0
PRODID:-//Squarespace Inc/Squarespace 6//v6//EN
BEGIN:VEVENT
UID:56672b84d82d5eef38071704@squarespace.com
DTSTAMP:20151208T191255Z
DTSTART:20160324T200000Z
DTEND:20160325T030000Z
SUMMARY:Riverhead Trail Ride
END:VEVENT
END:VCALENDAR
