BEGIN:VCALENDAR
VERSION:2.0
PRODID:-//Squarespace Inc/Squarespace 6//v6//EN
BEGIN:VEVENT
UID:57d63517f7e0ab316f522b85@squarespace.com
DTSTAMP:20170131T230038Z
DTSTART:20170203T020000Z
DTEND:20170203T070000Z
SUMMARY:Riverhead Twilight Ride #3
END:VEVENT
END:VCALENDAR
