BEGIN:VCALENDAR
VERSION:2.0
PRODID:-//Squarespace Inc/Squarespace 6//v6//EN
BEGIN:VEVENT
UID:57d6360c15d5db80eae6b74e@squarespace.com
DTSTAMP:20161206T202845Z
DTSTART:20170422T210000Z
DTEND:20170422T220000Z
SUMMARY:Riverhead Trail Ride
END:VEVENT
END:VCALENDAR
