BEGIN:VCALENDAR
VERSION:2.0
PRODID:-//Squarespace Inc/Squarespace 6//v6//EN
BEGIN:VEVENT
UID:592f2776e4fcb527486ef0ad@squarespace.com
DTSTAMP:20170806T065942Z
DTSTART:20170812T210000Z
DTEND:20170813T040000Z
SUMMARY:Woodhill Trailride
END:VEVENT
END:VCALENDAR
